Package: GenomicOZone Version: 1.24.0 Command: /home/biocbuild/bbs-3.22-bioc/R/bin/R CMD build --keep-empty-dirs --no-resave-data --md5 GenomicOZone StartedAt: 2025-11-14 17:52:36 -0500 (Fri, 14 Nov 2025) EndedAt: 2025-11-14 17:54:54 -0500 (Fri, 14 Nov 2025) EllapsedTime: 138.2 seconds RetCode: 0 Status: OK PackageFile: GenomicOZone_1.24.0.tar.gz PackageFileSize: 1.277 MiB