Package: GenomicInteractions Version: 1.44.0 Command: /home/biocbuild/bbs-3.22-bioc/R/bin/R CMD build --keep-empty-dirs --no-resave-data --md5 GenomicInteractions StartedAt: 2025-11-11 17:53:12 -0500 (Tue, 11 Nov 2025) EndedAt: 2025-11-11 17:56:14 -0500 (Tue, 11 Nov 2025) EllapsedTime: 182.1 seconds RetCode: 0 Status: OK PackageFile: GenomicInteractions_1.44.0.tar.gz PackageFileSize: 3.482 MiB