Package: GenomicInteractions Version: 1.44.0 Command: /Library/Frameworks/R.framework/Resources/bin/R CMD INSTALL GenomicInteractions StartedAt: 2025-11-10 15:26:31 -0500 (Mon, 10 Nov 2025) EndedAt: 2025-11-10 15:27:09 -0500 (Mon, 10 Nov 2025) EllapsedTime: 37.4 seconds RetCode: 0 Status: OK