Package: GenomicInteractions Version: 1.44.0 Command: /Library/Frameworks/R.framework/Resources/bin/R CMD build --keep-empty-dirs --no-resave-data GenomicInteractions StartedAt: 2025-11-10 16:30:16 -0500 (Mon, 10 Nov 2025) EndedAt: 2025-11-10 16:31:27 -0500 (Mon, 10 Nov 2025) EllapsedTime: 70.7 seconds RetCode: 0 Status: OK PackageFile: GenomicInteractions_1.44.0.tar.gz PackageFileSize: 3.527 MiB