Package: GenomicInteractions Version: 1.44.0 Command: rm -rf GenomicInteractions.buildbin-libdir && mkdir GenomicInteractions.buildbin-libdir && /Users/biocbuild/BBS/utils/build-universal.sh GenomicInteractions_1.44.0.tar.gz /Library/Frameworks/R.framework/Resources/bin/R GenomicInteractions.buildbin-libdir StartedAt: 2025-11-10 23:21:28 -0500 (Mon, 10 Nov 2025) EndedAt: 2025-11-10 23:22:10 -0500 (Mon, 10 Nov 2025) EllapsedTime: 41.8 seconds RetCode: 0 Status: OK PackageFile: GenomicInteractions_1.44.0.tgz PackageFileSize: 4.029 MiB