Package: GenomicInteractionNodes Version: 1.14.0 Command: /home/biocbuild/R/R/bin/R CMD build --keep-empty-dirs --no-resave-data GenomicInteractionNodes StartedAt: 2025-11-14 02:04:25 -0000 (Fri, 14 Nov 2025) EndedAt: 2025-11-14 02:06:38 -0000 (Fri, 14 Nov 2025) EllapsedTime: 133.1 seconds RetCode: 0 Status: OK PackageFile: GenomicInteractionNodes_1.14.0.tar.gz PackageFileSize: 274.4 KiB