Package: GenomicInteractionNodes Version: 1.14.0 Command: /home/biocbuild/bbs-3.22-bioc/R/bin/R CMD INSTALL GenomicInteractionNodes StartedAt: 2025-11-11 15:44:44 -0500 (Tue, 11 Nov 2025) EndedAt: 2025-11-11 15:45:18 -0500 (Tue, 11 Nov 2025) EllapsedTime: 33.9 seconds RetCode: 0 Status: OK