Package: GenomicInteractionNodes Version: 1.14.0 Command: /home/biocbuild/bbs-3.22-bioc/R/bin/R CMD build --keep-empty-dirs --no-resave-data --md5 GenomicInteractionNodes StartedAt: 2025-11-11 17:52:53 -0500 (Tue, 11 Nov 2025) EndedAt: 2025-11-11 17:54:33 -0500 (Tue, 11 Nov 2025) EllapsedTime: 100.1 seconds RetCode: 0 Status: OK PackageFile: GenomicInteractionNodes_1.14.0.tar.gz PackageFileSize: 249.2 KiB