Package: GenomicInteractionNodes Version: 1.12.0 Command: /Library/Frameworks/R.framework/Resources/bin/R CMD build --keep-empty-dirs --no-resave-data GenomicInteractionNodes StartedAt: 2025-10-13 19:18:18 -0400 (Mon, 13 Oct 2025) EndedAt: 2025-10-13 19:21:49 -0400 (Mon, 13 Oct 2025) EllapsedTime: 210.2 seconds RetCode: 0 Status: OK PackageFile: GenomicInteractionNodes_1.12.0.tar.gz PackageFileSize: 248.4 KiB