Package: GenomicInteractionNodes Version: 1.12.0 Command: rm -rf GenomicInteractionNodes.buildbin-libdir && mkdir GenomicInteractionNodes.buildbin-libdir && /Users/biocbuild/BBS/utils/build-universal.sh GenomicInteractionNodes_1.12.0.tar.gz /Library/Frameworks/R.framework/Resources/bin/R GenomicInteractionNodes.buildbin-libdir StartedAt: 2025-10-14 13:33:23 -0400 (Tue, 14 Oct 2025) EndedAt: 2025-10-14 13:35:15 -0400 (Tue, 14 Oct 2025) EllapsedTime: 112.0 seconds RetCode: 0 Status: OK PackageFile: GenomicInteractionNodes_1.12.0.tgz PackageFileSize: 273.5 KiB