Package: GenomicFiles Version: 1.46.0 Command: /home/biocbuild/R/R/bin/R CMD INSTALL GenomicFiles StartedAt: 2025-11-13 22:04:25 -0000 (Thu, 13 Nov 2025) EndedAt: 2025-11-13 22:05:19 -0000 (Thu, 13 Nov 2025) EllapsedTime: 54.4 seconds RetCode: 0 Status: OK