Package: GenomicFiles Version: 1.46.0 Command: /home/biocbuild/R/R/bin/R CMD build --keep-empty-dirs --no-resave-data GenomicFiles StartedAt: 2025-11-14 02:03:29 -0000 (Fri, 14 Nov 2025) EndedAt: 2025-11-14 02:04:59 -0000 (Fri, 14 Nov 2025) EllapsedTime: 90.0 seconds RetCode: 0 Status: OK PackageFile: GenomicFiles_1.46.0.tar.gz PackageFileSize: 736.6 KiB