Package: GenomicFiles Version: 1.44.1 Command: /home/biocbuild/bbs-3.21-bioc/R/bin/R CMD INSTALL GenomicFiles StartedAt: 2025-10-05 15:56:40 -0400 (Sun, 05 Oct 2025) EndedAt: 2025-10-05 15:57:21 -0400 (Sun, 05 Oct 2025) EllapsedTime: 40.7 seconds RetCode: 0 Status: OK