Package: GenomicFiles Version: 1.44.1 Command: /home/biocbuild/bbs-3.21-bioc/R/bin/R CMD build --keep-empty-dirs --no-resave-data GenomicFiles StartedAt: 2025-10-05 17:41:22 -0400 (Sun, 05 Oct 2025) EndedAt: 2025-10-05 17:42:35 -0400 (Sun, 05 Oct 2025) EllapsedTime: 73.1 seconds RetCode: 0 Status: OK PackageFile: GenomicFiles_1.44.1.tar.gz PackageFileSize: 712.5 KiB