Package: GenomicFiles Version: 1.44.1 Command: /Library/Frameworks/R.framework/Resources/bin/R CMD INSTALL GenomicFiles StartedAt: 2025-10-02 18:24:38 -0400 (Thu, 02 Oct 2025) EndedAt: 2025-10-02 18:25:27 -0400 (Thu, 02 Oct 2025) EllapsedTime: 49.0 seconds RetCode: 0 Status: OK