Package: GenomicFiles Version: 1.44.1 Command: /Library/Frameworks/R.framework/Resources/bin/R CMD build --keep-empty-dirs --no-resave-data GenomicFiles StartedAt: 2025-10-03 00:59:05 -0400 (Fri, 03 Oct 2025) EndedAt: 2025-10-03 01:00:36 -0400 (Fri, 03 Oct 2025) EllapsedTime: 91.0 seconds RetCode: 0 Status: OK PackageFile: GenomicFiles_1.44.1.tar.gz PackageFileSize: 712.6 KiB