Package: GenomicFiles Version: 1.44.1 Command: rm -rf GenomicFiles.buildbin-libdir && mkdir GenomicFiles.buildbin-libdir && /Users/biocbuild/BBS/utils/build-universal.sh GenomicFiles_1.44.1.tar.gz /Library/Frameworks/R.framework/Resources/bin/R GenomicFiles.buildbin-libdir StartedAt: 2025-10-04 18:08:24 -0400 (Sat, 04 Oct 2025) EndedAt: 2025-10-04 18:09:17 -0400 (Sat, 04 Oct 2025) EllapsedTime: 53.1 seconds RetCode: 0 Status: OK PackageFile: GenomicFiles_1.44.1.tgz PackageFileSize: 1.005 MiB