Package: GenomicFeatures Version: 1.62.0 Command: /home/biocbuild/bbs-3.22-bioc/R/bin/R CMD INSTALL GenomicFeatures StartedAt: 2025-11-11 15:42:49 -0500 (Tue, 11 Nov 2025) EndedAt: 2025-11-11 15:43:26 -0500 (Tue, 11 Nov 2025) EllapsedTime: 36.7 seconds RetCode: 0 Status: OK