Package: GenomicFeatures Version: 1.60.0 Command: /home/biocbuild/bbs-3.21-bioc/R/bin/R CMD build --keep-empty-dirs --no-resave-data GenomicFeatures StartedAt: 2025-10-05 17:41:17 -0400 (Sun, 05 Oct 2025) EndedAt: 2025-10-05 17:42:34 -0400 (Sun, 05 Oct 2025) EllapsedTime: 77.1 seconds RetCode: 0 Status: OK PackageFile: GenomicFeatures_1.60.0.tar.gz PackageFileSize: 556 KiB