Package: GenomicFeatures Version: 1.60.0 Command: /Library/Frameworks/R.framework/Resources/bin/R CMD build --keep-empty-dirs --no-resave-data GenomicFeatures StartedAt: 2025-04-21 16:54:43 -0400 (Mon, 21 Apr 2025) EndedAt: 2025-04-21 16:56:14 -0400 (Mon, 21 Apr 2025) EllapsedTime: 91.3 seconds RetCode: 0 Status: OK PackageFile: GenomicFeatures_1.60.0.tar.gz PackageFileSize: 555.9 KiB