Package: GenomicFeatures Version: 1.60.0 Command: /Library/Frameworks/R.framework/Resources/bin/R CMD build --keep-empty-dirs --no-resave-data GenomicFeatures StartedAt: 2025-04-21 16:25:56 -0400 (Mon, 21 Apr 2025) EndedAt: 2025-04-21 16:26:32 -0400 (Mon, 21 Apr 2025) EllapsedTime: 35.4 seconds RetCode: 0 Status: OK PackageFile: GenomicFeatures_1.60.0.tar.gz PackageFileSize: 556 KiB