Package: GenomicFeatures Version: 1.60.0 Command: /Library/Frameworks/R.framework/Resources/bin/R CMD INSTALL GenomicFeatures StartedAt: 2025-10-06 17:15:24 -0400 (Mon, 06 Oct 2025) EndedAt: 2025-10-06 17:16:09 -0400 (Mon, 06 Oct 2025) EllapsedTime: 45.3 seconds RetCode: 0 Status: OK