Package: GenomicFeatures Version: 1.60.0 Command: /Library/Frameworks/R.framework/Resources/bin/R CMD build --keep-empty-dirs --no-resave-data GenomicFeatures StartedAt: 2025-10-07 01:05:30 -0400 (Tue, 07 Oct 2025) EndedAt: 2025-10-07 01:07:07 -0400 (Tue, 07 Oct 2025) EllapsedTime: 96.7 seconds RetCode: 0 Status: OK PackageFile: GenomicFeatures_1.60.0.tar.gz PackageFileSize: 556 KiB