Package: GenomicDistributions Version: 1.18.0 Command: /home/biocbuild/bbs-3.22-bioc/R/bin/R CMD check --install=check:GenomicDistributions.install-out.txt --library=/home/biocbuild/bbs-3.22-bioc/R/site-library --timings GenomicDistributions_1.18.0.tar.gz StartedAt: 2025-11-11 23:59:13 -0500 (Tue, 11 Nov 2025) EndedAt: 2025-11-12 00:02:50 -0500 (Wed, 12 Nov 2025) EllapsedTime: 217.1 seconds RetCode: 0 Status: OK CheckDir: GenomicDistributions.Rcheck Warnings: 0