Package: GenomicDistributions Version: 1.18.0 Command: /home/biocbuild/bbs-3.22-bioc/R/bin/R CMD build --keep-empty-dirs --no-resave-data --md5 GenomicDistributions StartedAt: 2025-11-11 17:52:22 -0500 (Tue, 11 Nov 2025) EndedAt: 2025-11-11 17:53:29 -0500 (Tue, 11 Nov 2025) EllapsedTime: 67.1 seconds RetCode: 0 Status: OK PackageFile: GenomicDistributions_1.18.0.tar.gz PackageFileSize: 6.24 MiB