Package: GenomicDistributions Version: 1.16.1 Command: /home/biocbuild/bbs-3.21-bioc/R/bin/R CMD build --keep-empty-dirs --no-resave-data GenomicDistributions StartedAt: 2025-09-28 17:53:42 -0400 (Sun, 28 Sep 2025) EndedAt: 2025-09-28 17:54:48 -0400 (Sun, 28 Sep 2025) EllapsedTime: 66.0 seconds RetCode: 0 Status: OK PackageFile: GenomicDistributions_1.16.1.tar.gz PackageFileSize: 6.237 MiB