Package: GenomicDataCommons Version: 1.34.1 Command: /home/biocbuild/R/R/bin/R CMD build --keep-empty-dirs --no-resave-data GenomicDataCommons StartedAt: 2025-11-14 02:02:55 -0000 (Fri, 14 Nov 2025) EndedAt: 2025-11-14 02:05:27 -0000 (Fri, 14 Nov 2025) EllapsedTime: 152.1 seconds RetCode: 0 Status: OK PackageFile: GenomicDataCommons_1.34.1.tar.gz PackageFileSize: 2.494 MiB