Package: GenomicDataCommons Version: 1.34.1 Command: /home/biocbuild/bbs-3.22-bioc/R/bin/R CMD INSTALL GenomicDataCommons StartedAt: 2025-11-13 15:17:18 -0500 (Thu, 13 Nov 2025) EndedAt: 2025-11-13 15:17:29 -0500 (Thu, 13 Nov 2025) EllapsedTime: 11.1 seconds RetCode: 0 Status: OK