Package: GenomicDataCommons Version: 1.34.1 Command: /home/biocbuild/bbs-3.22-bioc/R/bin/R CMD check --install=check:GenomicDataCommons.install-out.txt --library=/home/biocbuild/bbs-3.22-bioc/R/site-library --timings GenomicDataCommons_1.34.1.tar.gz StartedAt: 2025-11-11 23:59:10 -0500 (Tue, 11 Nov 2025) EndedAt: 2025-11-12 00:01:55 -0500 (Wed, 12 Nov 2025) EllapsedTime: 164.1 seconds RetCode: 0 Status: OK CheckDir: GenomicDataCommons.Rcheck Warnings: 0