Package: GenomicDataCommons Version: 1.34.1 Command: /home/biocbuild/bbs-3.22-bioc/R/bin/R CMD build --keep-empty-dirs --no-resave-data --md5 GenomicDataCommons StartedAt: 2025-11-13 17:50:57 -0500 (Thu, 13 Nov 2025) EndedAt: 2025-11-13 17:52:10 -0500 (Thu, 13 Nov 2025) EllapsedTime: 73.0 seconds RetCode: 0 Status: OK PackageFile: GenomicDataCommons_1.34.1.tar.gz PackageFileSize: 2.661 MiB