Package: GenomicDataCommons Version: 1.32.1 Command: /Library/Frameworks/R.framework/Resources/bin/R CMD INSTALL GenomicDataCommons StartedAt: 2025-09-25 15:29:31 -0400 (Thu, 25 Sep 2025) EndedAt: 2025-09-25 15:29:56 -0400 (Thu, 25 Sep 2025) EllapsedTime: 25.5 seconds RetCode: 0 Status: OK