Package: GenomicDataCommons Version: 1.32.1 Command: /Library/Frameworks/R.framework/Resources/bin/R CMD build --keep-empty-dirs --no-resave-data GenomicDataCommons StartedAt: 2025-09-25 19:15:34 -0400 (Thu, 25 Sep 2025) EndedAt: 2025-09-25 19:17:37 -0400 (Thu, 25 Sep 2025) EllapsedTime: 122.6 seconds RetCode: 0 Status: OK PackageFile: GenomicDataCommons_1.32.1.tar.gz PackageFileSize: 2.386 MiB