Package: GenomicDataCommons Version: 1.32.1 Command: rm -rf GenomicDataCommons.buildbin-libdir && mkdir GenomicDataCommons.buildbin-libdir && /Users/biocbuild/BBS/utils/build-universal.sh GenomicDataCommons_1.32.1.tar.gz /Library/Frameworks/R.framework/Resources/bin/R GenomicDataCommons.buildbin-libdir StartedAt: 2025-09-26 14:07:00 -0400 (Fri, 26 Sep 2025) EndedAt: 2025-09-26 14:07:49 -0400 (Fri, 26 Sep 2025) EllapsedTime: 49.1 seconds RetCode: 0 Status: OK PackageFile: GenomicDataCommons_1.32.1.tgz PackageFileSize: 2.018 MiB