Package: GenomicAlignments Version: 1.46.0 Command: /home/biocbuild/R/R/bin/R CMD INSTALL GenomicAlignments StartedAt: 2025-11-10 21:32:10 -0000 (Mon, 10 Nov 2025) EndedAt: 2025-11-10 21:32:57 -0000 (Mon, 10 Nov 2025) EllapsedTime: 47.3 seconds RetCode: 0 Status: OK