Package: GenomicAlignments Version: 1.46.0 Command: /home/biocbuild/R/R/bin/R CMD build --keep-empty-dirs --no-resave-data GenomicAlignments StartedAt: 2025-11-11 01:56:01 -0000 (Tue, 11 Nov 2025) EndedAt: 2025-11-11 01:58:00 -0000 (Tue, 11 Nov 2025) EllapsedTime: 119.0 seconds RetCode: 0 Status: OK PackageFile: GenomicAlignments_1.46.0.tar.gz PackageFileSize: 2.157 MiB