Package: GenomicAlignments Version: 1.46.0 Command: /home/biocbuild/bbs-3.22-bioc/R/bin/R CMD check --install=check:GenomicAlignments.install-out.txt --library=/home/biocbuild/bbs-3.22-bioc/R/site-library --timings GenomicAlignments_1.46.0.tar.gz StartedAt: 2025-11-11 23:59:07 -0500 (Tue, 11 Nov 2025) EndedAt: 2025-11-12 00:05:01 -0500 (Wed, 12 Nov 2025) EllapsedTime: 353.3 seconds RetCode: 0 Status: OK CheckDir: GenomicAlignments.Rcheck Warnings: 0