Package: GenomicAlignments Version: 1.44.0 Command: /Library/Frameworks/R.framework/Resources/bin/R CMD INSTALL GenomicAlignments StartedAt: 2025-04-21 15:24:01 -0400 (Mon, 21 Apr 2025) EndedAt: 2025-04-21 15:24:50 -0400 (Mon, 21 Apr 2025) EllapsedTime: 48.7 seconds RetCode: 0 Status: OK