Package: GenomeInfoDb Version: 1.44.3 Command: /home/biocbuild/bbs-3.21-bioc/R/bin/R CMD INSTALL GenomeInfoDb StartedAt: 2025-10-15 15:13:34 -0400 (Wed, 15 Oct 2025) EndedAt: 2025-10-15 15:13:46 -0400 (Wed, 15 Oct 2025) EllapsedTime: 11.4 seconds RetCode: 0 Status: OK