Package: GenomeInfoDb Version: 1.44.3 Command: /home/biocbuild/bbs-3.21-bioc/R/bin/R CMD build --keep-empty-dirs --no-resave-data GenomeInfoDb StartedAt: 2025-10-15 17:39:31 -0400 (Wed, 15 Oct 2025) EndedAt: 2025-10-15 17:40:01 -0400 (Wed, 15 Oct 2025) EllapsedTime: 30.0 seconds RetCode: 0 Status: OK PackageFile: GenomeInfoDb_1.44.3.tar.gz PackageFileSize: 3.42 MiB