Package: GenomeInfoDb Version: 1.44.3 Command: /home/biocbuild/R/R/bin/R CMD INSTALL GenomeInfoDb StartedAt: 2025-09-25 20:27:11 -0000 (Thu, 25 Sep 2025) EndedAt: 2025-09-25 20:27:27 -0000 (Thu, 25 Sep 2025) EllapsedTime: 16.0 seconds RetCode: 0 Status: OK