Package: GenomeInfoDb Version: 1.44.3 Command: /Library/Frameworks/R.framework/Resources/bin/R CMD build --keep-empty-dirs --no-resave-data GenomeInfoDb StartedAt: 2025-10-14 00:59:16 -0400 (Tue, 14 Oct 2025) EndedAt: 2025-10-14 00:59:58 -0400 (Tue, 14 Oct 2025) EllapsedTime: 41.9 seconds RetCode: 0 Status: OK PackageFile: GenomeInfoDb_1.44.3.tar.gz PackageFileSize: 3.42 MiB