Package: GenomAutomorphism Version: 1.12.0 Command: /home/biocbuild/bbs-3.22-bioc/R/bin/R CMD INSTALL GenomAutomorphism StartedAt: 2025-11-11 15:20:01 -0500 (Tue, 11 Nov 2025) EndedAt: 2025-11-11 15:20:22 -0500 (Tue, 11 Nov 2025) EllapsedTime: 21.5 seconds RetCode: 0 Status: OK