Package: GenomAutomorphism Version: 1.12.0 Command: /home/biocbuild/bbs-3.22-bioc/R/bin/R CMD check --install=check:GenomAutomorphism.install-out.txt --library=/home/biocbuild/bbs-3.22-bioc/R/site-library --timings GenomAutomorphism_1.12.0.tar.gz StartedAt: 2025-11-14 00:02:57 -0500 (Fri, 14 Nov 2025) EndedAt: 2025-11-14 00:07:08 -0500 (Fri, 14 Nov 2025) EllapsedTime: 250.2 seconds RetCode: 0 Status: OK CheckDir: GenomAutomorphism.Rcheck Warnings: 0