Package: GenomAutomorphism Version: 1.10.0 Command: /home/biocbuild/bbs-3.21-bioc/R/bin/R CMD build --keep-empty-dirs --no-resave-data GenomAutomorphism StartedAt: 2025-10-15 17:39:30 -0400 (Wed, 15 Oct 2025) EndedAt: 2025-10-15 17:40:57 -0400 (Wed, 15 Oct 2025) EllapsedTime: 87.1 seconds RetCode: 0 Status: OK PackageFile: GenomAutomorphism_1.10.0.tar.gz PackageFileSize: 1.441 MiB