Package: GenomAutomorphism Version: 1.10.0 Command: /Library/Frameworks/R.framework/Resources/bin/R CMD INSTALL GenomAutomorphism StartedAt: 2025-04-21 15:15:25 -0400 (Mon, 21 Apr 2025) EndedAt: 2025-04-21 15:15:59 -0400 (Mon, 21 Apr 2025) EllapsedTime: 34.3 seconds RetCode: 0 Status: OK