Package: GenomAutomorphism Version: 1.10.0 Command: rm -rf GenomAutomorphism.buildbin-libdir && mkdir GenomAutomorphism.buildbin-libdir && /Users/biocbuild/BBS/utils/build-universal.sh GenomAutomorphism_1.10.0.tar.gz /Library/Frameworks/R.framework/Resources/bin/R GenomAutomorphism.buildbin-libdir StartedAt: 2025-04-22 00:47:00 -0400 (Tue, 22 Apr 2025) EndedAt: 2025-04-22 00:47:35 -0400 (Tue, 22 Apr 2025) EllapsedTime: 35.7 seconds RetCode: 0 Status: OK PackageFile: GenomAutomorphism_1.10.0.tgz PackageFileSize: 2.037 MiB