Package: GenomAutomorphism Version: 1.10.0 Command: /home/biocbuild/R/R/bin/R CMD INSTALL GenomAutomorphism StartedAt: 2025-09-25 20:28:45 -0000 (Thu, 25 Sep 2025) EndedAt: 2025-09-25 20:29:16 -0000 (Thu, 25 Sep 2025) EllapsedTime: 31.1 seconds RetCode: 0 Status: OK