Package: GenomAutomorphism Version: 1.10.0 Command: /home/biocbuild/R/R/bin/R CMD build --keep-empty-dirs --no-resave-data GenomAutomorphism StartedAt: 2025-09-30 01:44:42 -0000 (Tue, 30 Sep 2025) EndedAt: 2025-09-30 01:47:15 -0000 (Tue, 30 Sep 2025) EllapsedTime: 153.1 seconds RetCode: 0 Status: OK PackageFile: GenomAutomorphism_1.10.0.tar.gz PackageFileSize: 1.446 MiB