Package: GenomAutomorphism Version: 1.10.0 Command: /Library/Frameworks/R.framework/Resources/bin/R CMD build --keep-empty-dirs --no-resave-data GenomAutomorphism StartedAt: 2025-04-21 16:25:40 -0400 (Mon, 21 Apr 2025) EndedAt: 2025-04-21 16:26:19 -0400 (Mon, 21 Apr 2025) EllapsedTime: 38.5 seconds RetCode: 0 Status: OK PackageFile: GenomAutomorphism_1.10.0.tar.gz PackageFileSize: 1.367 MiB