Package: GenomAutomorphism Version: 1.10.0 Command: rm -rf GenomAutomorphism.buildbin-libdir && mkdir GenomAutomorphism.buildbin-libdir && /Users/biocbuild/BBS/utils/build-universal.sh GenomAutomorphism_1.10.0.tar.gz /Library/Frameworks/R.framework/Resources/bin/R GenomAutomorphism.buildbin-libdir StartedAt: 2025-04-21 22:36:20 -0400 (Mon, 21 Apr 2025) EndedAt: 2025-04-21 22:36:30 -0400 (Mon, 21 Apr 2025) EllapsedTime: 10.2 seconds RetCode: 0 Status: OK PackageFile: GenomAutomorphism_1.10.0.tgz PackageFileSize: 2.043 MiB